BEGIN:VCALENDAR
VERSION:2.0
PRODID:SchoolNow
CALSCALE:GREGORIAN
BEGIN:VEVENT
UID:992a02d0-9778-11e9-8af1-0a1c2a785db2
DTSTAMP:20190625T183943Z
SUMMARY:Girls Volleyball at home vs. Holland
URL;VALUE=URI:https://www.hudsonvillepublicschools.org/baldwinstreet/athlet
 ics/calendar/2012641/girls-volleyball-at-home-vs-holland
DTSTART:20191010T200000Z
DTEND:20191010T220000Z
END:VEVENT
END:VCALENDAR
