BEGIN:VCALENDAR
VERSION:2.0
PRODID:SchoolNow
CALSCALE:GREGORIAN
BEGIN:VEVENT
UID:66e57ed0-9778-11e9-929c-0a783b12796e
DTSTAMP:20190625T183818Z
SUMMARY:Girls Volleyball at Reeths Puffer
URL;VALUE=URI:https://www.hudsonvillepublicschools.org/baldwinstreet/athlet
 ics/calendar/2012639/girls-volleyball-at-reeths-puffer
DTSTART:20191008T200000Z
DTEND:20191008T220000Z
END:VEVENT
END:VCALENDAR
