BEGIN:VCALENDAR
VERSION:2.0
PRODID:SchoolNow
CALSCALE:GREGORIAN
BEGIN:VEVENT
UID:45c18780-9778-11e9-99c6-0a783b12796e
DTSTAMP:20190625T183723Z
SUMMARY:Girls Volleyball at Home vs. Grand Haven Gold
URL;VALUE=URI:https://www.hudsonvillepublicschools.org/baldwinstreet/athlet
 ics/calendar/2012638/girls-volleyball-at-home-vs-grand-haven-gold
DTSTART:20191003T200000Z
DTEND:20191003T220000Z
END:VEVENT
END:VCALENDAR
