BEGIN:VCALENDAR
VERSION:2.0
PRODID:SchoolNow
CALSCALE:GREGORIAN
BEGIN:VEVENT
UID:0d9cf68c-9778-11e9-aaf8-12d1063e7bc4
DTSTAMP:20190625T183549Z
SUMMARY:Girls Volleyball at Home vs. Hamilton
URL;VALUE=URI:https://www.hudsonvillepublicschools.org/baldwinstreet/athlet
 ics/calendar/2012636/girls-volleyball-at-home-vs-hamilton
DTSTART:20191001T200000Z
DTEND:20191001T220000Z
END:VEVENT
END:VCALENDAR
