BEGIN:VCALENDAR
VERSION:2.0
PRODID:SchoolNow
CALSCALE:GREGORIAN
BEGIN:VEVENT
UID:e3158ce4-9777-11e9-87ea-12d30cb65c56
DTSTAMP:20190625T183437Z
SUMMARY:Girls Volleyball at Holland Christian
URL;VALUE=URI:https://www.hudsonvillepublicschools.org/baldwinstreet/athlet
 ics/calendar/2012633/girls-volleyball-at-holland-christian
DTSTART:20190926T200000Z
DTEND:20190926T220000Z
END:VEVENT
END:VCALENDAR
