BEGIN:VCALENDAR
VERSION:2.0
PRODID:SchoolNow
CALSCALE:GREGORIAN
BEGIN:VEVENT
UID:b0a53d0e-9777-11e9-8ff6-0ab2b55bde9c
DTSTAMP:20190625T183313Z
SUMMARY:Girls Volleyball at Home vs. Jenison
URL;VALUE=URI:https://www.hudsonvillepublicschools.org/baldwinstreet/athlet
 ics/calendar/2012631/girls-volleyball-at-home-vs-jenison
DTSTART:20190924T200000Z
DTEND:20190924T220000Z
END:VEVENT
END:VCALENDAR
