BEGIN:VCALENDAR
VERSION:2.0
PRODID:SchoolNow
CALSCALE:GREGORIAN
BEGIN:VEVENT
UID:853b15bc-9777-11e9-964f-12d1063e7bc4
DTSTAMP:20190625T183200Z
SUMMARY:Girls Volleyball at Byron Center
URL;VALUE=URI:https://www.hudsonvillepublicschools.org/baldwinstreet/athlet
 ics/calendar/2012629/girls-volleyball-at-byron-center
DTSTART:20190917T200000Z
DTEND:20190917T220000Z
END:VEVENT
END:VCALENDAR
