BEGIN:VCALENDAR
VERSION:2.0
PRODID:SchoolNow
CALSCALE:GREGORIAN
BEGIN:VEVENT
UID:67d042ae-9777-11e9-9e37-12d1063e7bc4
DTSTAMP:20190625T183111Z
SUMMARY:Girls Volleyball at home vs. Pinewood
URL;VALUE=URI:https://www.hudsonvillepublicschools.org/baldwinstreet/athlet
 ics/calendar/2012626/girls-volleyball-at-home-vs-pinewood
DTSTART:20190912T200000Z
DTEND:20190912T220000Z
END:VEVENT
END:VCALENDAR
