BEGIN:VCALENDAR
VERSION:2.0
PRODID:SchoolNow
CALSCALE:GREGORIAN
BEGIN:VEVENT
UID:09acd80e-9777-11e9-8c91-12d30cb65c56
DTSTAMP:20190625T182833Z
SUMMARY:Girls Tennis at Granville Maroon
URL;VALUE=URI:https://www.hudsonvillepublicschools.org/baldwinstreet/athlet
 ics/calendar/2012623/girls-tennis-at-granville-maroon
DTSTART:20191015T200000Z
DTEND:20191015T220000Z
END:VEVENT
END:VCALENDAR
