BEGIN:VCALENDAR
VERSION:2.0
PRODID:SchoolNow
CALSCALE:GREGORIAN
BEGIN:VEVENT
UID:e41af6fc-9776-11e9-be46-12d30cb65c56
DTSTAMP:20190625T182730Z
SUMMARY:Girls Tennis at North Rockford
URL;VALUE=URI:https://www.hudsonvillepublicschools.org/baldwinstreet/athlet
 ics/calendar/2012622/girls-tennis-at-north-r
DTSTART:20191010T200000Z
DTEND:20191010T220000Z
END:VEVENT
END:VCALENDAR
