BEGIN:VCALENDAR
VERSION:2.0
PRODID:SchoolNow
CALSCALE:GREGORIAN
BEGIN:VEVENT
UID:45f49cc6-9776-11e9-aaa3-12f5c26879a6
DTSTAMP:20190625T182304Z
SUMMARY:Girls Tennis at home vs. Jenison
URL;VALUE=URI:https://www.hudsonvillepublicschools.org/baldwinstreet/athlet
 ics/calendar/2012619/girls-tennis-at-home-vs-jenison
DTSTART:20191008T200000Z
DTEND:20191008T220000Z
END:VEVENT
END:VCALENDAR
