BEGIN:VCALENDAR
VERSION:2.0
PRODID:SchoolNow
CALSCALE:GREGORIAN
BEGIN:VEVENT
UID:092d6796-9776-11e9-bb34-0a1c2a785db2
DTSTAMP:20190625T182122Z
SUMMARY:Girls Tennis at home vs. East Rockford
URL;VALUE=URI:https://www.hudsonvillepublicschools.org/baldwinstreet/athlet
 ics/calendar/2012618/girls-tennis-at-home-vs-east-rockford
DTSTART:20191002T200000Z
DTEND:20191002T220000Z
END:VEVENT
END:VCALENDAR
