BEGIN:VCALENDAR
VERSION:2.0
PRODID:SchoolNow
CALSCALE:GREGORIAN
BEGIN:VEVENT
UID:c9428bb6-9775-11e9-9171-0a783b12796e
DTSTAMP:20190625T181935Z
SUMMARY:Girls Tennis at Grandville White
URL;VALUE=URI:https://www.hudsonvillepublicschools.org/baldwinstreet/athlet
 ics/calendar/2012617/girls-tennis-at-grandville-white
DTSTART:20191001T200000Z
DTEND:20191001T220000Z
END:VEVENT
END:VCALENDAR
