BEGIN:VCALENDAR
VERSION:2.0
PRODID:SchoolNow
CALSCALE:GREGORIAN
BEGIN:VEVENT
UID:a1b921f4-9775-11e9-8460-12f5c26879a6
DTSTAMP:20190625T181829Z
SUMMARY:Girls Tennis at Zeeland Cityside
URL;VALUE=URI:https://www.hudsonvillepublicschools.org/baldwinstreet/athlet
 ics/calendar/2012616/girls-tennis-at-zeeland-cityside
DTSTART:20190926T200000Z
DTEND:20190926T220000Z
END:VEVENT
END:VCALENDAR
