BEGIN:VCALENDAR
VERSION:2.0
PRODID:SchoolNow
CALSCALE:GREGORIAN
BEGIN:VEVENT
UID:6ff1b64a-9775-11e9-9b2a-12d30cb65c56
DTSTAMP:20190625T181705Z
SUMMARY:Girls Tennis at home vs. Riley
URL;VALUE=URI:https://www.hudsonvillepublicschools.org/baldwinstreet/athlet
 ics/calendar/2012615/girls-tennis-at-home-vs-riley
DTSTART:20190924T200000Z
DTEND:20190924T220000Z
END:VEVENT
END:VCALENDAR
