BEGIN:VCALENDAR
VERSION:2.0
PRODID:SchoolNow
CALSCALE:GREGORIAN
BEGIN:VEVENT
UID:e9e8073e-9774-11e9-b421-0a1c2a785db2
DTSTAMP:20190625T181525Z
SUMMARY:Girls Tennis at East Rockford
URL;VALUE=URI:https://www.hudsonvillepublicschools.org/baldwinstreet/athlet
 ics/calendar/2012611/girls-tennis-at-east-rockford
DTSTART:20190919T200000Z
DTEND:20190919T220000Z
END:VEVENT
END:VCALENDAR
