BEGIN:VCALENDAR
VERSION:2.0
PRODID:SchoolNow
CALSCALE:GREGORIAN
BEGIN:VEVENT
UID:38c6105e-9774-11e9-aa04-0ab2b55bde9c
DTSTAMP:20190625T180823Z
SUMMARY:Girls Tennis at Home vs. North Rockford
URL;VALUE=URI:https://www.hudsonvillepublicschools.org/baldwinstreet/athlet
 ics/calendar/2012605/girls-tennis-at-home-vs-north-rockford
DTSTART:20190912T200000Z
DTEND:20190912T220000Z
END:VEVENT
END:VCALENDAR
