BEGIN:VCALENDAR
VERSION:2.0
PRODID:SchoolNow
CALSCALE:GREGORIAN
BEGIN:VEVENT
UID:063e3850-9774-11e9-9029-12f5c26879a6
DTSTAMP:20190625T180658Z
SUMMARY:Girls Tennis at Jenison
URL;VALUE=URI:https://www.hudsonvillepublicschools.org/baldwinstreet/athlet
 ics/calendar/2012603/girls-tennis-at-jenison
DTSTART:20190910T200000Z
DTEND:20190910T220000Z
END:VEVENT
END:VCALENDAR
