BEGIN:VCALENDAR
VERSION:2.0
PRODID:SchoolNow
CALSCALE:GREGORIAN
BEGIN:VEVENT
UID:d7a1f14e-9773-11e9-9d61-0a783b12796e
DTSTAMP:20190625T180540Z
SUMMARY:Girls Tennis at home vs. West Ottawa Black
URL;VALUE=URI:https://www.hudsonvillepublicschools.org/baldwinstreet/athlet
 ics/calendar/2012601/girls-tennis-at-home-vs-west-ottawa-black
DTSTART:20190905T200000Z
DTEND:20190905T220000Z
END:VEVENT
END:VCALENDAR
