BEGIN:VCALENDAR
VERSION:2.0
PRODID:SchoolNow
CALSCALE:GREGORIAN
BEGIN:VEVENT
UID:2926ae60-4f2b-11e9-9558-0ae9c06b09a4
DTSTAMP:20190430T183327Z
SUMMARY:Boys Tennis Home vs. Zeeland Cityside - CANCELLED
URL;VALUE=URI:https://www.hudsonvillepublicschools.org/baldwinstreet/athlet
 ics/calendar/1959948/boys-tennis-home-vs-zeeland-cityside
DTSTART:20190430T200000Z
DTEND:20190430T220000Z
END:VEVENT
END:VCALENDAR
