BEGIN:VCALENDAR
VERSION:2.0
PRODID:SchoolNow
CALSCALE:GREGORIAN
BEGIN:VEVENT
UID:de0a3c62-4f2a-11e9-966e-12ed20a92062
DTSTAMP:20190325T182154Z
SUMMARY:Boys Tennis at Riley
URL;VALUE=URI:https://www.hudsonvillepublicschools.org/baldwinstreet/athlet
 ics/calendar/1959944/boys-tennis-at-riley
DTSTART:20190425T200000Z
DTEND:20190425T220000Z
END:VEVENT
END:VCALENDAR
