BEGIN:VCALENDAR
VERSION:2.0
PRODID:SchoolNow
CALSCALE:GREGORIAN
BEGIN:VEVENT
UID:ab5fc4e4-4f2a-11e9-aad4-0a265ad83958
DTSTAMP:20190325T182029Z
SUMMARY:Boys Tennis Home vs. East Rockford
URL;VALUE=URI:https://www.hudsonvillepublicschools.org/baldwinstreet/athlet
 ics/calendar/1959942/boys-tennis-home-vs-east-rockford
DTSTART:20190423T200000Z
DTEND:20190423T220000Z
END:VEVENT
END:VCALENDAR
