BEGIN:VCALENDAR
VERSION:2.0
PRODID:SchoolNow
CALSCALE:GREGORIAN
BEGIN:VEVENT
UID:e1afa524-4f29-11e9-8a00-0ac1e7337642
DTSTAMP:20190325T181451Z
SUMMARY:Boys Tennis Home vs. Jenison
URL;VALUE=URI:https://www.hudsonvillepublicschools.org/baldwinstreet/athlet
 ics/calendar/1959940/boys-tennis-home-vs-jenison
DTSTART:20190411T193000Z
DTEND:20190411T213000Z
END:VEVENT
END:VCALENDAR
