BEGIN:VCALENDAR
VERSION:2.0
PRODID:SchoolNow
CALSCALE:GREGORIAN
BEGIN:VEVENT
UID:7db7846a-4f29-11e9-8825-129025a4e614
DTSTAMP:20190325T181203Z
SUMMARY:Boys Tennis at West Ottawa
URL;VALUE=URI:https://www.hudsonvillepublicschools.org/baldwinstreet/athlet
 ics/calendar/1959871/boys-tennis-at-west-ottawa
DTSTART:20190409T200000Z
DTEND:20190409T220000Z
END:VEVENT
END:VCALENDAR
