BEGIN:VCALENDAR
VERSION:2.0
PRODID:SchoolNow
CALSCALE:GREGORIAN
BEGIN:VEVENT
UID:0dbaa79a-1db6-11e9-b88e-123334bb9d6c
DTSTAMP:20190227T153035Z
SUMMARY:Boys Dive Conference Meet at Grandville High
URL;VALUE=URI:https://www.hudsonvillepublicschools.org/baldwinstreet/athlet
 ics/calendar/1933704/boys-dive-conference-meet-at-grand-haven
DTSTART:20190314T203000Z
DTEND:20190315T000000Z
END:VEVENT
END:VCALENDAR
