BEGIN:VCALENDAR
VERSION:2.0
PRODID:SchoolNow
CALSCALE:GREGORIAN
BEGIN:VEVENT
UID:0d807d46-1db5-11e9-8f5d-0aa64c703a16
DTSTAMP:20190218T160027Z
SUMMARY:Boys Swim & Dive at East Kentwood vs. EK and Rockford
URL;VALUE=URI:https://www.hudsonvillepublicschools.org/baldwinstreet/athlet
 ics/calendar/1933700/boys-swim-dive-at-east-kentwood
DTSTART:20190226T210000Z
DTEND:20190226T233000Z
END:VEVENT
END:VCALENDAR
