BEGIN:VCALENDAR
VERSION:2.0
PRODID:SchoolNow
CALSCALE:GREGORIAN
BEGIN:VEVENT
UID:8a633c4a-1db0-11e9-8c4b-12514904db0e
DTSTAMP:20190121T191248Z
SUMMARY:Boys Swim & Dive vs. West Ottawa
URL;VALUE=URI:https://www.hudsonvillepublicschools.org/baldwinstreet/athlet
 ics/calendar/1933698/boys-swim-dive-vs-west-ottawa
DTSTART:20190219T210000Z
DTEND:20190219T230000Z
END:VEVENT
END:VCALENDAR
