BEGIN:VCALENDAR
VERSION:2.0
PRODID:SchoolNow
CALSCALE:GREGORIAN
BEGIN:VEVENT
UID:3cc27a3a-1dad-11e9-9e33-0ac519d6f258
DTSTAMP:20190121T184909Z
SUMMARY:Boys Swim & Dive vs. Jenison
URL;VALUE=URI:https://www.hudsonvillepublicschools.org/baldwinstreet/athlet
 ics/calendar/1933689/boys-swim-dive-vs-jenison
DTSTART:20190131T210000Z
DTEND:20190131T230000Z
END:VEVENT
END:VCALENDAR
