BEGIN:VCALENDAR
VERSION:2.0
PRODID:SchoolNow
CALSCALE:GREGORIAN
BEGIN:VEVENT
UID:addd6554-db86-11e8-a0ec-0a53d467da04
DTSTAMP:20181029T142652Z
SUMMARY:Competitive Cheer at Jenison
URL;VALUE=URI:https://www.hudsonvillepublicschools.org/baldwinstreet/athlet
 ics/calendar/1898530/competitive-cheer-at-jenison
DTSTART:20181219T230000Z
DTEND:20181220T020000Z
END:VEVENT
END:VCALENDAR
