BEGIN:VCALENDAR
VERSION:2.0
PRODID:SchoolNow
CALSCALE:GREGORIAN
BEGIN:VEVENT
UID:4d7db668-8a1c-11f0-8528-024452b9d3e5
DTSTAMP:20260421T054007Z
SUMMARY:Parent Teacher Conferences
URL;VALUE=URI:https://www.hudsonvillepublicschools.org/alward/calendar/8583
 233/parent-teacher-conferences
DTSTART;VALUE=DATE:20260304
DTEND;VALUE=DATE:20260305
END:VEVENT
END:VCALENDAR
