BEGIN:VCALENDAR
VERSION:2.0
PRODID:SchoolNow
CALSCALE:GREGORIAN
BEGIN:VEVENT
UID:4d7db186-8a1c-11f0-b568-024452b9d3e5
DTSTAMP:20260421T054007Z
SUMMARY:Parent Teacher Conferences
URL;VALUE=URI:https://www.hudsonvillepublicschools.org/alward/calendar/8583
 232/parent-teacher-conferences
DTSTART;VALUE=DATE:20260302
DTEND;VALUE=DATE:20260303
END:VEVENT
END:VCALENDAR
