BEGIN:VCALENDAR
VERSION:2.0
PRODID:SchoolNow
CALSCALE:GREGORIAN
BEGIN:VEVENT
UID:2b10b2f8-83cb-11f0-bc6d-0afff538669d
DTSTAMP:20260421T054007Z
SUMMARY:PTC End of Year Picnic
URL;VALUE=URI:https://www.hudsonvillepublicschools.org/alward/calendar/8552
 462/ptc-end-of-year-picnic
DTSTART:20260530T160000Z
DTEND:20260530T190000Z
END:VEVENT
END:VCALENDAR
