BEGIN:VCALENDAR
VERSION:2.0
PRODID:SchoolNow
CALSCALE:GREGORIAN
BEGIN:VEVENT
UID:2b10b168-83cb-11f0-ac2e-0afff538669d
DTSTAMP:20260420T173507Z
SUMMARY:Popcorn Friday
URL;VALUE=URI:https://www.hudsonvillepublicschools.org/alward/calendar/8552
 461/popcorn-friday
DTSTART;VALUE=DATE:20260508
DTEND;VALUE=DATE:20260509
END:VEVENT
END:VCALENDAR
