BEGIN:VCALENDAR
VERSION:2.0
PRODID:SchoolNow
CALSCALE:GREGORIAN
BEGIN:VEVENT
UID:2b10afd8-83cb-11f0-a30c-0afff538669d
DTSTAMP:20260420T173507Z
SUMMARY:PTC Skating Party
URL;VALUE=URI:https://www.hudsonvillepublicschools.org/alward/calendar/8552
 460/ptc-skating-party
DTSTART:20260507T221500Z
DTEND:20260508T001500Z
END:VEVENT
END:VCALENDAR
