BEGIN:VCALENDAR
VERSION:2.0
PRODID:SchoolNow
CALSCALE:GREGORIAN
BEGIN:VEVENT
UID:2b10acae-83cb-11f0-8ffa-0afff538669d
DTSTAMP:20260421T054007Z
SUMMARY:PTC Family Dance
URL;VALUE=URI:https://www.hudsonvillepublicschools.org/alward/calendar/8552
 458/ptc-family-dance
DTSTART:20260320T220000Z
DTEND:20260321T000000Z
END:VEVENT
END:VCALENDAR
