BEGIN:VCALENDAR
VERSION:2.0
PRODID:SchoolNow
CALSCALE:GREGORIAN
BEGIN:VEVENT
UID:2b10ab14-83cb-11f0-9127-0afff538669d
DTSTAMP:20260421T054007Z
SUMMARY:Popcorn Friday
URL;VALUE=URI:https://www.hudsonvillepublicschools.org/alward/calendar/8552
 457/popcorn-friday
DTSTART;VALUE=DATE:20260320
DTEND;VALUE=DATE:20260321
END:VEVENT
END:VCALENDAR
