BEGIN:VCALENDAR
VERSION:2.0
PRODID:SchoolNow
CALSCALE:GREGORIAN
BEGIN:VEVENT
UID:2b10a98e-83cb-11f0-9d93-0afff538669d
DTSTAMP:20260421T054007Z
SUMMARY:PTC Skating Party
URL;VALUE=URI:https://www.hudsonvillepublicschools.org/alward/calendar/8552
 456/ptc-skating-party
DTSTART:20260311T221500Z
DTEND:20260312T001500Z
END:VEVENT
END:VCALENDAR
