BEGIN:VCALENDAR
VERSION:2.0
PRODID:SchoolNow
CALSCALE:GREGORIAN
BEGIN:VEVENT
UID:2b10a7fe-83cb-11f0-8482-0afff538669d
DTSTAMP:20260421T054007Z
SUMMARY:PTC Boys VIP Event
URL;VALUE=URI:https://www.hudsonvillepublicschools.org/alward/calendar/8552
 455/ptc-boys-vip-event
DTSTART:20260306T230000Z
DTEND:20260307T010000Z
END:VEVENT
END:VCALENDAR
