BEGIN:VCALENDAR
VERSION:2.0
PRODID:SchoolNow
CALSCALE:GREGORIAN
BEGIN:VEVENT
UID:2b10a4de-83cb-11f0-9986-0afff538669d
DTSTAMP:20260421T054007Z
SUMMARY:PTC Public Meeting
URL;VALUE=URI:https://www.hudsonvillepublicschools.org/alward/calendar/8552
 453/ptc-public-meeting
DTSTART:20260120T233000Z
DTEND:20260121T003000Z
END:VEVENT
END:VCALENDAR
