BEGIN:VCALENDAR
VERSION:2.0
PRODID:SchoolNow
CALSCALE:GREGORIAN
BEGIN:VEVENT
UID:2b10a344-83cb-11f0-9a28-0afff538669d
DTSTAMP:20260421T054007Z
SUMMARY:PTC Skating Party
URL;VALUE=URI:https://www.hudsonvillepublicschools.org/alward/calendar/8552
 452/ptc-skating-party
DTSTART:20260115T231500Z
DTEND:20260116T011500Z
END:VEVENT
END:VCALENDAR
