BEGIN:VCALENDAR
VERSION:2.0
PRODID:SchoolNow
CALSCALE:GREGORIAN
BEGIN:VEVENT
UID:2b10a1aa-83cb-11f0-97f6-0afff538669d
DTSTAMP:20260421T054007Z
SUMMARY:Popcorn Friday
URL;VALUE=URI:https://www.hudsonvillepublicschools.org/alward/calendar/8552
 451/popcorn-friday
DTSTART;VALUE=DATE:20260116
DTEND;VALUE=DATE:20260117
END:VEVENT
END:VCALENDAR
