BEGIN:VCALENDAR
VERSION:2.0
PRODID:SchoolNow
CALSCALE:GREGORIAN
BEGIN:VEVENT
UID:77427190-1fb5-11f0-9d90-0a58a9feac02
DTSTAMP:20250422T200749Z
SUMMARY:Early Release
URL;VALUE=URI:https://www.hudsonvillepublicschools.org/alward/calendar/7986
 155/early-release
DTSTART:20251212T190500Z
DTEND:20251212T200500Z
END:VEVENT
END:VCALENDAR
