BEGIN:VCALENDAR
VERSION:2.0
PRODID:SchoolNow
CALSCALE:GREGORIAN
BEGIN:VEVENT
UID:d8b69fe8-1fae-11f0-b296-0a58a9feac02
DTSTAMP:20250422T192026Z
SUMMARY:No School / Snow Day Makeup Day if Needed
URL;VALUE=URI:https://www.hudsonvillepublicschools.org/alward/calendar/7985
 907/no-school-snow-day-makeup-day-if-needed
DTSTART;VALUE=DATE:20260522
DTEND;VALUE=DATE:20260523
END:VEVENT
END:VCALENDAR
