BEGIN:VCALENDAR
VERSION:2.0
PRODID:SchoolNow
CALSCALE:GREGORIAN
BEGIN:VEVENT
UID:efc1a2f6-1fad-11f0-a6a5-0ed256800e21
DTSTAMP:20250422T191356Z
SUMMARY:Early Release
URL;VALUE=URI:https://www.hudsonvillepublicschools.org/alward/calendar/7985
 865/early-release
DTSTART:20260320T180700Z
DTEND:20260320T190700Z
END:VEVENT
END:VCALENDAR
