BEGIN:VCALENDAR
VERSION:2.0
PRODID:SchoolNow
CALSCALE:GREGORIAN
BEGIN:VEVENT
UID:1e28e24a-1fad-11f0-b78f-0a58a9feac02
DTSTAMP:20250422T190804Z
SUMMARY:Early Release
URL;VALUE=URI:https://www.hudsonvillepublicschools.org/alward/calendar/7985
 817/early-release
DTSTART:20260116T190600Z
DTEND:20260116T200600Z
END:VEVENT
END:VCALENDAR
