BEGIN:VCALENDAR
VERSION:2.0
PRODID:SchoolNow
CALSCALE:GREGORIAN
BEGIN:VEVENT
UID:4235f470-1fa8-11f0-8ad3-0affc15f8047
DTSTAMP:20250422T183317Z
SUMMARY:Early Release
URL;VALUE=URI:https://www.hudsonvillepublicschools.org/alward/calendar/7984
 117/early-release
DTSTART;VALUE=DATE:20250821
DTEND;VALUE=DATE:20250822
END:VEVENT
END:VCALENDAR
