BEGIN:VCALENDAR
VERSION:2.0
PRODID:SchoolNow
CALSCALE:GREGORIAN
BEGIN:VEVENT
UID:86141d20-9ea3-11ee-ab50-0a58a9feac02
DTSTAMP:20241118T184344Z
SUMMARY:Early Release
URL;VALUE=URI:https://www.hudsonvillepublicschools.org/alward/calendar/5026
 847/early-release
DTSTART:20250117T174900Z
DTEND:20250117T184900Z
END:VEVENT
END:VCALENDAR
