BEGIN:VCALENDAR
VERSION:2.0
PRODID:SchoolNow
CALSCALE:GREGORIAN
BEGIN:VEVENT
UID:5307a674-3f0d-11f1-9401-0affe9afb099
DTSTAMP:20260423T120948Z
SUMMARY:Board of Education Meeting
LOCATION:3886 Van Buren Street\, Hudsonville\, MI 49426
URL;VALUE=URI:https://www.hudsonvillepublicschools.org/about/calendar/90132
 41/board-of-education-meeting
DTSTART:20260514T220000Z
DTEND:20260514T230000Z
END:VEVENT
END:VCALENDAR
