BEGIN:VCALENDAR
VERSION:2.0
PRODID:SchoolNow
CALSCALE:GREGORIAN
BEGIN:VEVENT
UID:d6d4f882-3bc4-11eb-a4f4-0a0b55b3385f
DTSTAMP:20201211T154506Z
SUMMARY:Work Session of the Board of Education
URL;VALUE=URI:https://www.hudsonvillepublicschools.org/about/calendar/25112
 84/work-session-of-the-board-of-education
DTSTART:20201214T230000Z
DTEND:20201215T000000Z
ATTACH;FILENAME=;FMTTYPE=application/octet-stream:
END:VEVENT
END:VCALENDAR
