BEGIN:VCALENDAR
VERSION:2.0
PRODID:SchoolNow
CALSCALE:GREGORIAN
BEGIN:VEVENT
UID:ffd6bd6e-2c34-11eb-8b5f-1282afaf4479
DTSTAMP:20201123T154625Z
SUMMARY:Virtual Special Board Meeting
URL;VALUE=URI:https://www.hudsonvillepublicschools.org/about/calendar/25013
 30/virtual-special-board-meeting
DTSTART:20201123T224500Z
DTEND:20201123T234500Z
END:VEVENT
END:VCALENDAR
